BEGIN:VCALENDAR
VERSION:2.0
PRODID:-//ar-mel - ECPv6.0.13.1//NONSGML v1.0//EN
CALSCALE:GREGORIAN
METHOD:PUBLISH
X-WR-CALNAME:ar-mel
X-ORIGINAL-URL:https://www.ar-mel.net
X-WR-CALDESC:Events for ar-mel
REFRESH-INTERVAL;VALUE=DURATION:PT1H
X-Robots-Tag:noindex
X-PUBLISHED-TTL:PT1H
BEGIN:VTIMEZONE
TZID:Africa/Lome
BEGIN:STANDARD
TZOFFSETFROM:+0000
TZOFFSETTO:+0000
TZNAME:GMT
DTSTART:20240101T000000
END:STANDARD
END:VTIMEZONE
BEGIN:VEVENT
DTSTART;TZID=Africa/Lome:20241220T080000
DTEND;TZID=Africa/Lome:20241220T170000
DTSTAMP:20260422T230448
CREATED:20231129T093447Z
LAST-MODIFIED:20231129T122638Z
UID:10000009-1734681600-1734714000@www.ar-mel.net
SUMMARY:Recherche Qualitative : Démarche\, Outils et Techniques
DESCRIPTION:La recherche qualitative constitue une approche puissante pour explorer en profondeur les phénomènes\, les expériences et les significations au sein d’un contexte donné. Notre programme de formation offre une opportunité unique d’acquérir les compétences essentielles nécessaires pour concevoir et mener des recherches qualitatives de manière rigoureuse et significative. \nObjectifs de la Formation \nCette formation vise à fournir aux participants une compréhension approfondie\, des outils pratiques et des techniques avancées pour la recherche qualitative. À la fin de la formation\, les participants seront capables de : \n\nComprendre les principes fondamentaux de la recherche qualitative.\nComprendre les différentes approches de la recherche qualitative.\nConcevoir une démarche de recherche qualitative adaptée à leur sujet d’étude.\nMaîtriser les outils et les techniques d’échantillonnage pour la collecte de données qualitatives.\nUtiliser les différents outils de collecte des données qualitatives\nAnalyser et interpréter de manière approfondie les données qualitatives.\nRespecter les normes éthiques liées à la recherche qualitative.\n\nContenu de la Formation \nLa formation sera structurée autour des thèmes clés suivants :\n– Clarifications conceptuelles \n– Intérêts de la recherche qualitative \n– Démarche de la recherche qualitative \n– Technique d’échantillonnage. \n– Instruments (outils) de collecte des données qualitatives \n– Techniques avancées d’analyse des données qualitatives. \n– Considérations éthiques en recherche qualitative. \nMéthodologie \nLa formation adoptera une approche interactive\, combinant des sessions théoriques\, des ateliers pratiques\, des simulations d’études de cas\, et des discussions de groupe. Les participants auront l’opportunité d’appliquer directement les concepts appris à leurs propres projets de recherche. \nPublic Cible\nCette formation s’adresse aux chefs de projet\, membres d’équipes de projet\, chargés de suivi et évaluation\, et toute personne intéressée par l’approfondissement de ses compétences en recherche qualitative. \n Pourquoi choisir notre formation :\n– Formateurs experts dans le domaine de la recherche qualitative. \n– Approche pratique favorisant l’application immédiate des connaissances acquises. \n– Contenu adapté aux défis réels rencontrés lors de la recherche qualitative. \n– Possibilité d’échanger des expériences avec d’autres chercheurs et professionnels du domaine. \nNombre de place : 40\nDate limite de paiement : 30 novembre 2024 \nPayer maintenant ! \nInscription\nN’attendez pas pour perfectionner vos compétences en élaboration d’agenda de recherche. Inscrivez-vous dès maintenant pour garantir votre place dans cette formation exclusive. Pour plus d’informations et pour vous inscrire\, veuillez nous contacter à contact@ar-mel.net et/ou via WhatsApp à +229 65 61 83 83
URL:https://www.ar-mel.net/event/recherche-qualitative-demarche-outils-et-techniques/
LOCATION:En ligne (Mode synchrone)
CATEGORIES:Online
ATTACH;FMTTYPE=image/jpeg:https://www.ar-mel.net/wp-content/uploads/2021/07/Thrid-Party-MEL-TPM.jpg
ORGANIZER;CN="Ad%C3%A9l%C3%A9k%C3%A9%20A.%20Oguniyi":MAILTO:oguniyi@ar-mel.net
END:VEVENT
BEGIN:VEVENT
DTSTART;TZID=Africa/Lome:20241129T090000
DTEND;TZID=Africa/Lome:20241129T130000
DTSTAMP:20260422T230448
CREATED:20231129T091410Z
LAST-MODIFIED:20231129T123115Z
UID:10000008-1732870800-1732885200@www.ar-mel.net
SUMMARY:Maîtriser l'Art de la Clôture des Projet/Programme : Démarche\, Outils et Exigences
DESCRIPTION:Vous êtes à la recherche d’une formation complète et pratique pour parfaire vos compétences en matière de gestion des plans de clôture des projet/programme ? Notre programme de formation “Maîtriser l’Art de la Clôture des Projet/Programme” offre une opportunité unique d’acquérir les connaissances approfondies et les compétences nécessaires pour réussir la phase cruciale de la phase de clôture d’un projet ou d’un programme. \nObjectifs de la Formation\nCette formation a pour objectif de vous fournir les outils essentiels\, la méthodologie précise et la compréhension approfondie des exigences liées à la clôture de projet/programme. À la fin de la formation\, les participants seront capables de :\n1. Comprendre les enjeux stratégiques de la clôture de projet/programme.\n2. Élaborer un plan de clôture adapté aux spécificités du projet/programme.\n3. Maîtriser les outils et méthodes pour mettre en œuvre efficacement le plan de clôture.\n4. Respecter les exigences légales\, réglementaires et contractuelles associées à la clôture.\n5. Gérer les aspects humains et communicationnels de la clôture avec succès. \nContenu de la Formation\nLa formation sera structurée autour des thèmes clés suivants :\n– Introduction à la clôture de projet/programme : enjeux et importance.\n– Élaboration d’un plan de clôture : étapes\, méthodologie\, et bonnes pratiques.\n– Outils et techniques pour la mise en œuvre du plan de clôture.\n– Gestion des ressources humaines et communication lors de la clôture.\n– Conformité légale\, réglementaire et contractuelle. \nMéthodologie\nLa formation adoptera une approche interactive\, combinant des sessions théoriques\, des études de cas pratiques et des discussions de groupe. Les participants auront également accès à des outils concrets qu’ils pourront appliquer directement dans leur contexte professionnel.  \nPublic Cible \nCette formation s’adresse aux chefs de projet\, responsables de programme\, membres d’équipes de projet\, chargés de suivi et évaluation\, ainsi qu’à toute personne impliquée dans la gestion et l’évaluation de projets. \nPourquoi choisir notre formation\n– Formateurs experts dans le domaine de la gestion de projet et de programme.\n– Approche pratique favorisant l’application immédiate des connaissances acquises.\n– Contenu adapté aux défis réels rencontrés lors de la clôture de projet/programme.\n– Échange d’expériences entre participants favorisant un apprentissage collaboratif. \nNombre de place : 30\nDate limite de paiement : 31 octobre 2024\nPayer maintenant ! \nInscription\nN’attendez pas pour perfectionner vos compétences en élaboration d’agenda de recherche. Inscrivez-vous dès maintenant pour garantir votre place dans cette formation exclusive. Pour plus d’informations et pour vous inscrire\, veuillez nous contacter à contact@ar-mel.net et/ou via WhatsApp à +229 65 61 83 83
URL:https://www.ar-mel.net/event/maitriser-lart-de-la-cloture-des-projet-programme-demarche-outils-et-exigences/
LOCATION:En ligne (Mode synchrone)
CATEGORIES:Online
ATTACH;FMTTYPE=image/jpeg:https://www.ar-mel.net/wp-content/uploads/2021/07/Organisation-Capacity-Assessment.jpg
ORGANIZER;CN="Ad%C3%A9l%C3%A9k%C3%A9%20A.%20Oguniyi":MAILTO:oguniyi@ar-mel.net
END:VEVENT
BEGIN:VEVENT
DTSTART;TZID=Africa/Lome:20240629T090000
DTEND;TZID=Africa/Lome:20240629T130000
DTSTAMP:20260422T230448
CREATED:20231129T123322Z
LAST-MODIFIED:20231129T182709Z
UID:10000011-1719651600-1719666000@www.ar-mel.net
SUMMARY:Maîtriser la Méthodologie d'Élaboration d'un Agenda d’apprentissage : Démarche\, Outils et Exigences
DESCRIPTION:L’agenda d’apprentissage est un outil essentiel pour le suivi et l’évaluation des projets. Essentiellement\, alors que la mesure des éléments du cadre logique indique ce qui est fait\, l’agenda d’apprentissage est destiné à fournir des informations supplémentaires sur le pourquoi\, le comment et le quoi au-delà du cadre logique. De cette manière\, l’agenda d’apprentissage permet de mieux comprendre les interventions et de prendre des décisions plus précises\, pertinentes et éclairées. Savoir concevoir un agenda de recherche solide est une compétence clé pour tout professionnel engagé dans la production de connaissances. Notre programme de formation “Maîtriser la Méthodologie d’Élaboration d’un Agenda de Recherche” offre une opportunité unique d’acquérir les compétences nécessaires pour concevoir et planifier des agendas de recherche pertinents et efficaces. \n\n\n\nObjectifs de la Formation\n\n\n\nCette formation vise à fournir aux participants une compréhension approfondie\, des outils pratiques et une méthodologie robuste pour l’élaboration d’un agenda de recherche.  À la fin de la formation\, les participants seront capables de : \n\n\n\n\nComprendre l’importance stratégique d’un agenda de recherche bien élaboré.\n\n\n\nDéfinir clairement les objectifs de recherche et les questions pertinentes.\n\n\n\nD’identifier les principes qui encadrent l’élaboration d’un agenda d’apprentissage\,\n\n\n\nMettre en place et appliquer les différentes étapes d’élaboration d’un agenda d’apprentissage.\n\n\n\nD’analyser les contraintes et facteurs qui peuvent affecter la mise en œuvre d’un agenda d’apprentissage\n\n\n\nD’appliquer les mesures pratiques pour réussir le déploiement d’un agenda d’apprentissage.\n\n\n\n\nContenu de la Formation\n\n\n\nLa formation sera structurée autour des thèmes clés suivants : \n\n\n\n\nImportance stratégique de l’agenda de recherche dans le processus de recherche.\n\n\n\nDéfinition des objectifs de recherche et formulation de questions de recherche pertinentes.\n\n\n\nAnalyser des contraintes et facteurs qui influencent la mise en œuvre d’un agenda d’apprentissage\n\n\n\nChoix et application d’une méthodologie appropriée à la nature de la recherche.\n\n\n\nUtilisation d’outils avancés pour la planification temporelle et la gestion des ressources.\n\n\n\n\nPublic Cible\n\n\n\nCette formation s’adresse aux gestionnaires de projet\, responsables de programme\, chargés de suivi et évaluation\, ainsi qu’à toute personne impliquée dans la gestion et l’évaluation de projets. \n\n\n\nMéthodologie\n\n\n\nLa formation adoptera une approche interactive\, combinant des sessions théoriques\, des ateliers pratiques et des études de cas concrets. Les participants auront l’opportunité d’appliquer directement les concepts appris à leurs propres projets de recherche. \n\n\n\nPourquoi choisir notre formation :\n\n\n\n\nFormateurs experts dans le domaine de la recherche et de la planification.\n\n\n\nApproche pratique favorisant l’application immédiate des connaissances acquises.\n\n\n\nContenu adapté aux défis réels rencontrés lors de l’élaboration d’un agenda de recherche.\n\n\n\nPossibilité d’échanger des expériences avec d’autres professionnels du domaine.\n\n\n\n\nNombre de place : 30\n\n\n\nDate limite de paiement : 31 mai 2024\n\n\n\nPayer maintenant ! \n\n\n\nInscription :\n\n\n\nN’attendez pas pour perfectionner vos compétences en élaboration d’agenda de recherche. Inscrivez-vous dès maintenant pour garantir votre place dans cette formation exclusive. Pour plus d’informations et pour vous inscrire\, veuillez nous contacter à contact@ar-mel.net et/ou via WhatsApp à +229 65 61 83 83
URL:https://www.ar-mel.net/event/maitriser-la-methodologie-delaboration-dun-agenda-dapprentissage-demarche-outils-et-exigences-2/
LOCATION:En ligne (Mode synchrone)
CATEGORIES:Online
ATTACH;FMTTYPE=image/jpeg:https://www.ar-mel.net/wp-content/uploads/2021/07/Ex-Post-Evaluation.jpg
ORGANIZER;CN="Ad%C3%A9l%C3%A9k%C3%A9%20A.%20Oguniyi":MAILTO:oguniyi@ar-mel.net
END:VEVENT
BEGIN:VEVENT
DTSTART;TZID=Africa/Lome:20240624T090000
DTEND;TZID=Africa/Lome:20240624T160000
DTSTAMP:20260422T230448
CREATED:20231129T080742Z
LAST-MODIFIED:20231129T083836Z
UID:10000006-1719219600-1719244800@www.ar-mel.net
SUMMARY:Elaborer et mettre en œuvre un plan de Suivi et Evaluation : Démarche\, Outils et Exigences
DESCRIPTION:Dans un contexte où la mesure de la performance et l’évaluation des résultats sont devenues des éléments clés de toute initiative\, notre programme de formation “Maîtriser l’Élaboration et la Mise en Œuvre d’un Plan de Suivi et Évaluation” offre une occasion unique de développer vos compétences dans ce domaine essentiel de la gestion de projet. \nObjectifs de la Formation\nCette formation vise à fournir aux participants les connaissances approfondies\, les outils pratiques et la compréhension des exigences liées à l’élaboration et à la mise en œuvre d’un plan de suivi et évaluation. À la fin de la formation\, les participants seront capables de :\n1. Comprendre l’importance stratégique du suivi et de l’évaluation dans la gestion de projet.\n2. Élaborer un plan de suivi et évaluation adapté aux spécificités du projet.\n3. Maîtriser les outils et méthodes pour mettre en œuvre efficacement le plan S&E.\n4 intégrer les résultats du suivi et de l’évaluation dans le processus de prise de décision.\n5. Respecter les exigences normatives et méthodologiques associées au suivi et à l’évaluation. \nContenu de la Formation\nLa formation sera structurée autour des thèmes clés suivants :\n– Introduction aux concepts fondamentaux du suivi et de l’évaluation.\n– Élaboration d’un plan S&E : étapes\, méthodologie\, et bonnes pratiques.\n– Conformité aux normes et exigences méthodologiques en matière de suivi et évaluation. \nPublic Cible\nCette formation s’adresse aux gestionnaires de projet\, responsables de programme\, chargés de suivi et évaluation\, ainsi qu’à toute personne impliquée dans la gestion et l’évaluation de projets. \nMéthodologie\nLa formation adoptera une approche interactive\, combinant des sessions théoriques\, des études de cas pratiques et des exercices concrets. Les participants auront l’occasion d’appliquer les concepts appris à des situations réelles pour renforcer leur compréhension.  \nPourquoi choisir notre formation\n– Formateurs experts dans le domaine du suivi et de l’évaluation.\n– Approche pratique favorisant l’application immédiate des connaissances acquises.\n– Contenu adapté aux défis réels rencontrés lors de l’élaboration et de la mise en œuvre d’un plan S&E.\n– Possibilité d’échanger des expériences avec d’autres professionnels du secteur. \nNombre de place : 30\nDate limite de paiement : 31 août 2024\nPayer maintenant ! \nInscription\nN’attendez pas pour perfectionner vos compétences en élaboration d’agenda de recherche. Inscrivez-vous dès maintenant pour garantir votre place dans cette formation exclusive. Pour plus d’informations et pour vous inscrire\, veuillez nous contacter à contact@ar-mel.net et/ou via WhatsApp à +229 65 61 83 83
URL:https://www.ar-mel.net/event/elaborer-et-mettre-en-oeuvre-un-plan-de-suivi-et-evaluation-demarche-outils-et-exigences/
LOCATION:En ligne (Mode synchrone)
CATEGORIES:Online
ATTACH;FMTTYPE=image/jpeg:https://www.ar-mel.net/wp-content/uploads/2021/07/Experimental-Studies.jpg
ORGANIZER;CN="Ad%C3%A9l%C3%A9k%C3%A9%20A.%20Oguniyi":MAILTO:oguniyi@ar-mel.net
END:VEVENT
BEGIN:VEVENT
DTSTART;TZID=Africa/Lome:20240524T090000
DTEND;TZID=Africa/Lome:20240524T110000
DTSTAMP:20260422T230448
CREATED:20231129T140426Z
LAST-MODIFIED:20231129T140837Z
UID:10000013-1716541200-1716548400@www.ar-mel.net
SUMMARY:Immersion dans le travail quotidien d'un praticien du S&E
DESCRIPTION:La profession du Suivi et Evaluation (S&E) est exigeante. Plongez dans le quotidien d’un praticien chevronné du Suivi et de l’Évaluation (S&E) des projets avec notre Masterclass immersive. Cette Masterclass unique offre une occasion exceptionnelle d’explorer concrètement les défis\, les stratégies et les réussites d’un professionnel évoluant dans le domaine passionnant du S&E des projets. A la lumière de son parcours professionnel\, son expérience et expertise dans le domaine\, Mr Adéléké A. Oguniyi\, partagera des réalités du travail quotidien d’un praticien du S&E des projets. \nPrincipaux thèmes\n\nResponsabilités quotidiennes d’un praticien du S&E.\nOutils exploités au quotidien.\nPerspective concrète sur les défis rencontrés et solutions.\nConseils pratiques sur des cas concrets de S&E.\n\nPublic Cible\nCette Masterclass s’adresse aux étudiant.e. s\, aux aspirant.e. s au métier du suivi-évaluation\, aux membres d’équipes de projet\, aux chargés de suivi et évaluation\, et toute personne intéressée par le suivi et évaluation. \nLien d’inscription :\nhttps://bit.ly/47vIaen \nInscrivez-vous dès maintenant pour garantir votre place dans cette Masterclass exclusive.\nPour plus d’informations et pour vous inscrire\, veuillez nous contacter à contact@ar-mel.net et/ou via WhatsApp à +229 65 61 83 83
URL:https://www.ar-mel.net/event/immersion-dans-le-travail-quotidien-dun-praticien-du-se/
LOCATION:Zoom
CATEGORIES:FREE,Master Class
ATTACH;FMTTYPE=image/jpeg:https://www.ar-mel.net/wp-content/uploads/2021/07/Armel-Oguniyi_Bureau.jpg
ORGANIZER;CN="Ad%C3%A9l%C3%A9k%C3%A9%20A.%20Oguniyi":MAILTO:oguniyi@ar-mel.net
END:VEVENT
BEGIN:VEVENT
DTSTART;TZID=Africa/Lome:20240420T090000
DTEND;TZID=Africa/Lome:20240420T160000
DTSTAMP:20260422T230448
CREATED:20231129T120941Z
LAST-MODIFIED:20231129T182729Z
UID:10000010-1713603600-1713628800@www.ar-mel.net
SUMMARY:Maîtriser la Méthodologie d'Élaboration d'un Agenda d’apprentissage : Démarche\, Outils et Exigences
DESCRIPTION:La qualité des données est la pierre angulaire de toute prise de décision éclairée et de la réussite des initiatives. Les projets/programmes sont axés sur les résultats et gérés sur la base de données probantes. Des données de haute qualité sont essentielles pour : le suivi et évaluation (S&E) des progrès vers l’atteinte des résultats escomptés ; l’évaluation précise des performances ; la transparence\, la redevabilité et la bonne gouvernance ; la planification et la prise de décisions éclairées. Cette formation offre une opportunité exclusive d’acquérir les compétences nécessaires pour évaluer\, améliorer et maintenir la qualité des données au sein de votre organisation. \n\n\n\nObjectifs de la Formation\n\n\n\nCette formation vise à fournir aux participants une compréhension approfondie\, des outils pratiques et une méthodologie rigoureuse pour la revue de la qualité des données. À la fin de la formation\, les participants seront capables de : \n\n\n\n\nComprendre l’importance stratégique de la qualité des données.\n\n\n\nMettre en place une démarche structurée pour la revue de la qualité des données.\n\n\n\nUtiliser des outils avancés pour l’évaluation de la qualité des données.\n\n\n\nMettre en œuvre des processus d’amélioration continue de la qualité des données.\n\n\n\nRespecter les exigences normatives liées à la gestion de la qualité des données.\n\n\n\n\nContenu de la Formation\n\n\n\nLa formation sera structurée autour des thèmes clés suivants : \n\n\n\n\nImportance stratégique de la qualité des données dans la prise de décision.\n\n\n\nDémarche complète pour la revue de la qualité des données.\n\n\n\nDimensions de la qualité des données\n\n\n\nOutils avancés pour l’évaluation de la qualité des données.\n\n\n\nProcessus d’amélioration continue de la qualité des données.\n\n\n\n\nPublic Cible\n\n\n\nCette formation s’adresse aux gestionnaires de projet\, responsables de programme\, chargés de suivi et évaluation\, aux analystes de données\, aux gestionnaires de bases de données ainsi qu’à toute personne impliquée dans la gestion et l’évaluation de projets. \n\n\n\nMéthodologie\n\n\n\nLa formation adoptera une approche interactive\, combinant des sessions théoriques\, des démonstrations d’outils\, des ateliers pratiques et des études de cas concrets. Les participants auront l’occasion d’appliquer directement les concepts appris à leurs propres données. \n\n\n\nPourquoi choisir notre formation\n\n\n\n\nFormateurs experts dans le domaine de la gestion de la qualité des données.\n\n\n\nApproche pratique favorisant l’application immédiate des connaissances acquises.\n\n\n\nContenu adapté aux défis réels rencontrés lors de la revue de la qualité des données.\n\n\n\nPossibilité d’échanger des expériences avec d’autres professionnels du secteur.\n\n\n\n\nNombre de place : 15\n\n\n\nDate limite de paiement : 25 mars 2024\n\n\n\nPayer maintenant ! \n\n\n\nInscription\n\n\n\nN’attendez pas pour perfectionner vos compétences en élaboration d’agenda de recherche. Inscrivez-vous dès maintenant pour garantir votre place dans cette formation exclusive. Pour plus d’informations et pour vous inscrire\, veuillez nous contacter à contact@ar-mel.net et/ou via WhatsApp à +229 65 61 83 83
URL:https://www.ar-mel.net/event/maitriser-la-methodologie-delaboration-dun-agenda-dapprentissage/
LOCATION:EtriLabs\, Cotonou\, Benin
CATEGORIES:On-site
ATTACH;FMTTYPE=image/jpeg:https://www.ar-mel.net/wp-content/uploads/2021/07/Change-Management.jpg
ORGANIZER;CN="Ad%C3%A9l%C3%A9k%C3%A9%20A.%20Oguniyi":MAILTO:oguniyi@ar-mel.net
GEO:6.35588;2.39146
END:VEVENT
BEGIN:VEVENT
DTSTART;TZID=Africa/Lome:20240217T090000
DTEND;TZID=Africa/Lome:20240217T110000
DTSTAMP:20260422T230448
CREATED:20231129T125515Z
LAST-MODIFIED:20231129T140825Z
UID:10000012-1708160400-1708167600@www.ar-mel.net
SUMMARY:Exceller dans le domaine du S&E des projets
DESCRIPTION:Le S&E nécessite non seulement de connaissances et de compétences techniques spécifiques\, mais aussi des attitudes et prédispositions particulières. Appliqué dans divers secteurs (action publique\, privé\, santé\, agriculture\, genre\, protection\, environnement\, agronomie\, éducation\, commerce\, transport\, gouvernance\, changements climatiques\, etc.) et contextes (développement\, urgence\, humanitaire …)\, le S&E est une fonction intégrée qui nécessite des connaissances\, compétences et de l’expertise. A ceci s’ajoutent des aptitudes\, attitudes et prédispositions particulières. Il s’agit d’un champ en perpétuel développement…ce qui nécessite un apprentissage permanent. Quelles sont les compétences requises pour exceller dans le domaine du suivi et évaluation des projets ? Voilà la question centrale à laquelle tentera de répondre Mr Adéléké A. Oguniyi – Consultant S&E des Projets au cours de cette Masterclass. \n Principaux thèmes\n\nClarifications conceptuelles.\nExigences et Intérêts du S&E des projets.\nTypologie des compétences requises.\nProfil recherché par les recruteurs.\nComment développer/acquérir les compétences.\n\nPublic Cible \nCette Masterclass s’adresse aux étudiant.e. s\, aux aspirant.e. s au métier du suivi-évaluation\, aux membres d’équipes de projet\, aux chargés de suivi et évaluation\, et toute personne intéressée par l’approfondissement de ses compétences et connaissances sur le suivi et évaluation.  \nLien d’inscription : https://bit.ly/46lzwyk\nInscrivez-vous dès maintenant pour garantir votre place dans cette Masterclass exclusive. \nPour plus d’informations et pour vous inscrire\, veuillez nous contacter à contact@ar-mel.net et/ou via WhatsApp à +229 65 61 83 83
URL:https://www.ar-mel.net/event/exceller-dans-le-domaine-du-se-des-projets/
LOCATION:Zoom
CATEGORIES:FREE,Master Class
ATTACH;FMTTYPE=image/jpeg:https://www.ar-mel.net/wp-content/uploads/2021/07/header_join-us-min.jpg
ORGANIZER;CN="Ad%C3%A9l%C3%A9k%C3%A9%20A.%20Oguniyi":MAILTO:oguniyi@ar-mel.net
END:VEVENT
END:VCALENDAR